BEGIN:VCALENDAR
VERSION:2.0
PRODID:-//West Coast Weddings - ECPv6.15.19//NONSGML v1.0//EN
CALSCALE:GREGORIAN
METHOD:PUBLISH
X-ORIGINAL-URL:https://westcoastweddings.com
X-WR-CALDESC:Events for West Coast Weddings
REFRESH-INTERVAL;VALUE=DURATION:PT1H
X-Robots-Tag:noindex
X-PUBLISHED-TTL:PT1H
BEGIN:VTIMEZONE
TZID:America/Vancouver
BEGIN:DAYLIGHT
TZOFFSETFROM:-0800
TZOFFSETTO:-0700
TZNAME:PDT
DTSTART:20240310T100000
END:DAYLIGHT
BEGIN:STANDARD
TZOFFSETFROM:-0700
TZOFFSETTO:-0800
TZNAME:PST
DTSTART:20241103T090000
END:STANDARD
BEGIN:DAYLIGHT
TZOFFSETFROM:-0800
TZOFFSETTO:-0700
TZNAME:PDT
DTSTART:20250309T100000
END:DAYLIGHT
BEGIN:STANDARD
TZOFFSETFROM:-0700
TZOFFSETTO:-0800
TZNAME:PST
DTSTART:20251102T090000
END:STANDARD
BEGIN:DAYLIGHT
TZOFFSETFROM:-0800
TZOFFSETTO:-0700
TZNAME:PDT
DTSTART:20260308T100000
END:DAYLIGHT
BEGIN:STANDARD
TZOFFSETFROM:-0700
TZOFFSETTO:-0800
TZNAME:PST
DTSTART:20261101T090000
END:STANDARD
END:VTIMEZONE
BEGIN:VEVENT
DTSTART;TZID=America/Vancouver:20250125T110000
DTEND;TZID=America/Vancouver:20250125T160000
DTSTAMP:20260422T183856
CREATED:20240930T175341Z
LAST-MODIFIED:20250101T160124Z
UID:16600-1737802800-1737820800@westcoastweddings.com
SUMMARY:Swank Wedding Show 2025
DESCRIPTION:Swank Wedding Show is back to help inspire engaged couples on their wedding planning journey. The elite show will take place at Cascades Casino\, Delta on January 25\, 2025 11:00am – 4:00pm. Meet top wedding vendors\, see inspiring decor and bridal fashion. There will be a marketplace to pick up items for your special day.  \nPlan on attending Swank Wedding Show now!  \nOrganized by The Soirée Company  \nVendor applications open.  \nTickets  General Admission\, Bride & Groom\, VIP Engaged Single & VIP Engaged Couple \nKeep up to date on the event on Facebook & Instagram. 
URL:https://westcoastweddings.com/event/swank-wedding-show-2025/
LOCATION:Cascades Casino Delta\, 6005 - 17A\, Delta\, British Columbia\, V4K 5B8\, Canada
CATEGORIES:Wedding Shows
ATTACH;FMTTYPE=image/jpeg:https://westcoastweddings.com/wp-content/uploads/2024/09/swank-wedding-show-white-log-date.jpg
ORGANIZER;CN="The Soir%C3%A8e Company":MAILTO:kim@thesoireecompany.com
END:VEVENT
END:VCALENDAR