BEGIN:VCALENDAR
VERSION:2.0
PRODID:-//West Coast Weddings - ECPv6.15.19//NONSGML v1.0//EN
CALSCALE:GREGORIAN
METHOD:PUBLISH
X-ORIGINAL-URL:https://westcoastweddings.com
X-WR-CALDESC:Events for West Coast Weddings
REFRESH-INTERVAL;VALUE=DURATION:PT1H
X-Robots-Tag:noindex
X-PUBLISHED-TTL:PT1H
BEGIN:VTIMEZONE
TZID:America/Vancouver
BEGIN:DAYLIGHT
TZOFFSETFROM:-0800
TZOFFSETTO:-0700
TZNAME:PDT
DTSTART:20190310T100000
END:DAYLIGHT
BEGIN:STANDARD
TZOFFSETFROM:-0700
TZOFFSETTO:-0800
TZNAME:PST
DTSTART:20191103T090000
END:STANDARD
BEGIN:DAYLIGHT
TZOFFSETFROM:-0800
TZOFFSETTO:-0700
TZNAME:PDT
DTSTART:20200308T100000
END:DAYLIGHT
BEGIN:STANDARD
TZOFFSETFROM:-0700
TZOFFSETTO:-0800
TZNAME:PST
DTSTART:20201101T090000
END:STANDARD
BEGIN:DAYLIGHT
TZOFFSETFROM:-0800
TZOFFSETTO:-0700
TZNAME:PDT
DTSTART:20210314T100000
END:DAYLIGHT
BEGIN:STANDARD
TZOFFSETFROM:-0700
TZOFFSETTO:-0800
TZNAME:PST
DTSTART:20211107T090000
END:STANDARD
END:VTIMEZONE
BEGIN:VEVENT
DTSTART;TZID=America/Vancouver:20200411T150000
DTEND;TZID=America/Vancouver:20200411T190000
DTSTAMP:20260420T211533
CREATED:20200225T235843Z
LAST-MODIFIED:20200226T001643Z
UID:7882-1586617200-1586631600@westcoastweddings.com
SUMMARY:Weddings for Wildlife at The Seaside Nature Park
DESCRIPTION:Weddings for Wildlife at The Seaside Nature Park \nHosted by Brant Wildlife Festival and Ceri Peacey\, Oceanside Celebrant Services  \nDate: Saturday\, April 11\, 2020 at 3 PM – 7 PM \nWhere: In public at The Seaside Nature Park gazebo in Qualicum Beach.  \nRequirements: A valid marriage license is required and is the responsibility of each couple. \nThe Ceremony\nFive couples will legally be wed by celebrant Ceri Peacey of Oceanside Celebrant Services. Photos of the happy couples will be taken by Taryn Pickard of Innocent Thunder Photography.  The newlyweds are invited to stop by The Shady Rest Waterfront Pub for a complimentry dessert and drink after the ceremony.  \nREGISTER\nThe cost is a $400 donation per couple to The Nature Trust of BC to support the next Brant Wildlife Festival and will receive a tax receipt.  Only 5 couples will be married so register early!  Call toll-free 1.866.288.7878 or email Elvira Grondin at  egrondin@naturetrust.bc.ca to donate and register. \nCouples must register before April 4th 2020. \n*Services will go ahead no matter what the weather is\, so please ensure you dress appropriately. \nGet married and support nature on April 11 2020!  \nFor more information contact: Ceri Peacey at ceripeacey@celebrant.ca or call 250-927-5658 \n#weddingsforwildlife 
URL:https://westcoastweddings.com/event/weddings-for-wildlife-at-the-seaside-nature-park/
LOCATION:Seaside Nature Park\, Island Hwy W at Crescent Rd W\, Qualicum Beach\, BC\, Canada
CATEGORIES:Alternative Wedding Ceremonies
ATTACH;FMTTYPE=image/jpeg:https://westcoastweddings.com/wp-content/uploads/2020/02/weddings-for-wildlife-brant-wildlife-festival.jpg
ORGANIZER;CN="Oceanside Celebrant Services":MAILTO:ceripeacey@celebrant.ca
END:VEVENT
BEGIN:VEVENT
DTSTART;TZID=America/Vancouver:20200426T120000
DTEND;TZID=America/Vancouver:20200426T170000
DTSTAMP:20260420T211533
CREATED:20200127T172023Z
LAST-MODIFIED:20200127T172643Z
UID:7830-1587902400-1587920400@westcoastweddings.com
SUMMARY:Coastal Wedding Show - West Coast Weddings
DESCRIPTION:Coastal Wedding Show is a breath of fresh air when it comes to Wedding Shows!  The inaugural event will be hosted in the Chalet on top of the iconic Grouse Mountain.  Vancouver’s only wedding show dedicated to specialized outdoor local wedding vendors and products at the top of their games!  The show is being hosted on April 26th\, 2020 from 12pm- 5pm.  \nImagine saying ‘I do’ on a mountaintop surrounded by alpine peaks\, centuries-old forest and the sight of a million dancing lights in the city far\, far below.  From intimate gatherings to a spectacular party of 500+\, weddings at Grouse Mountain are pure magic. Receptions can take place in summer or winter\, outdoors under a marquis tent or inside one of the many reception areas\, including Grouse Mountain’s grand Chalet. Your happily ever after starts here. \nThe journey up the Skyride is sure to inspire and Grouse Mountain’s location offers couples to connect with vendors while overlooking the sparkling city of Vancouver below.  \nSee you there… \nTickets\nTickets are on sale now with Early Bird pricing available until the end of February! Get your tickets early to save!! Regular ticket prices begin on March 1st. \nTicket prices include: Parking Pass\, Sky Ride Ticket\, Access to Coastal Wedding Show\, Drinks\, Snacks and access to any activities happening on Grouse during this time.  \n 
URL:https://westcoastweddings.com/event/coastal-wedding-show-west-coast-weddings/
LOCATION:Grouse Mountain Resort\, 6400 Nancy Greene Way\, North Vancouver\, BC\, V7R 4K9\, Canada
CATEGORIES:Wedding Shows
ATTACH;FMTTYPE=image/jpeg:https://westcoastweddings.com/wp-content/uploads/2020/01/coastal-wedding-show.jpg
ORGANIZER;CN="Umbrella Events":MAILTO:hello@umbrellaevents.ca
END:VEVENT
END:VCALENDAR