BEGIN:VCALENDAR
VERSION:2.0
PRODID:-//West Coast Weddings - ECPv6.15.19//NONSGML v1.0//EN
CALSCALE:GREGORIAN
METHOD:PUBLISH
X-ORIGINAL-URL:https://westcoastweddings.com
X-WR-CALDESC:Events for West Coast Weddings
REFRESH-INTERVAL;VALUE=DURATION:PT1H
X-Robots-Tag:noindex
X-PUBLISHED-TTL:PT1H
BEGIN:VTIMEZONE
TZID:America/Vancouver
BEGIN:DAYLIGHT
TZOFFSETFROM:-0800
TZOFFSETTO:-0700
TZNAME:PDT
DTSTART:20190310T100000
END:DAYLIGHT
BEGIN:STANDARD
TZOFFSETFROM:-0700
TZOFFSETTO:-0800
TZNAME:PST
DTSTART:20191103T090000
END:STANDARD
BEGIN:DAYLIGHT
TZOFFSETFROM:-0800
TZOFFSETTO:-0700
TZNAME:PDT
DTSTART:20200308T100000
END:DAYLIGHT
BEGIN:STANDARD
TZOFFSETFROM:-0700
TZOFFSETTO:-0800
TZNAME:PST
DTSTART:20201101T090000
END:STANDARD
BEGIN:DAYLIGHT
TZOFFSETFROM:-0800
TZOFFSETTO:-0700
TZNAME:PDT
DTSTART:20210314T100000
END:DAYLIGHT
BEGIN:STANDARD
TZOFFSETFROM:-0700
TZOFFSETTO:-0800
TZNAME:PST
DTSTART:20211107T090000
END:STANDARD
END:VTIMEZONE
BEGIN:VEVENT
DTSTART;TZID=America/Vancouver:20200112T110000
DTEND;TZID=America/Vancouver:20200112T150000
DTSTAMP:20260423T220733
CREATED:20191118T191906Z
LAST-MODIFIED:20191118T191906Z
UID:7726-1578826800-1578841200@westcoastweddings.com
SUMMARY:Modern Wedding & Event Showcase
DESCRIPTION:Modern Wedding & Event Showcase\nThe largest wedding and event showcase of it’s kind on Vancouver Island. Organizers bring a fresh approach each year making it a “must-attend” event for couples and industry leaders.  Attendees should expect nothing less than chic\, elegant\, sophisticated inspiration. \nThe absolute opposite of ordinary is the best way to describe the experience we offer. \nTickets
URL:https://westcoastweddings.com/event/modern-wedding-event-showcase/
LOCATION:Crystal Garden\, 713 Douglas St\, Victoria\, British Columbia\, V8W 3M6\, Canada
ATTACH;FMTTYPE=image/jpeg:https://westcoastweddings.com/wp-content/uploads/2019/11/72636935_1779181102381176_4875706394075987968_o.jpg
ORGANIZER;CN="Modern Wedding Show":MAILTO:info@modernwedding.ca
END:VEVENT
BEGIN:VEVENT
DTSTART;TZID=America/Vancouver:20200119T100000
DTEND;TZID=America/Vancouver:20200119T160000
DTSTAMP:20260423T220733
CREATED:20190524T202914Z
LAST-MODIFIED:20190524T205937Z
UID:7104-1579428000-1579449600@westcoastweddings.com
SUMMARY:Spring Dream Wedding Show 2020 - Victoria\, BC
DESCRIPTION:Spring Dream Wedding Show 2020\nWe’d love to have you visit our Spring Dream Wedding Show at Pearkes Recreation Centre\, Victoria\, BC! \nCome spend the day meeting with wedding enthusiasts\, check out the on stage presentations\, fashion shows\, and take in the samples\, freebies and fun! Wedding Planning Starts Here!!  \nDate:  January 19th\, 2020 \nVenue: Pearkes Recreation Centre\, Victoria\, BC\nTime: 10:00 am to 4:00 pm\nAdmission: $5.00 in advance $10.00 at the door \nAdvanced Tickets are available online Spring Dream Wedding Show 2020 – Victoria\, BC \nWest Coast Weddings Magazine Vancouver Island\nJoin us at the Spring Dream Wedding Show 2020 – Victoria\, BC  \nPick up your free copy of West Coast Weddings Magazine
URL:https://westcoastweddings.com/event/spring-dream-wedding-show-2020-victoria-bc/
LOCATION:Pearkes Recreation Centre\, 3100 Tillicum Road\, Victoria\, BC\, V9A 6T2\, Canada
CATEGORIES:Wedding Shows
ATTACH;FMTTYPE=image/png:https://westcoastweddings.com/wp-content/uploads/2018/03/dream-wedding-show-logo.png
ORGANIZER;CN="Dream Wedding Show":MAILTO:info@dreamweddingshow.ca
END:VEVENT
END:VCALENDAR