BEGIN:VCALENDAR
VERSION:2.0
PRODID:-//West Coast Weddings - ECPv6.15.19//NONSGML v1.0//EN
CALSCALE:GREGORIAN
METHOD:PUBLISH
X-WR-CALNAME:West Coast Weddings
X-ORIGINAL-URL:https://westcoastweddings.com
X-WR-CALDESC:Events for West Coast Weddings
REFRESH-INTERVAL;VALUE=DURATION:PT1H
X-Robots-Tag:noindex
X-PUBLISHED-TTL:PT1H
BEGIN:VTIMEZONE
TZID:America/Vancouver
BEGIN:DAYLIGHT
TZOFFSETFROM:-0800
TZOFFSETTO:-0700
TZNAME:PDT
DTSTART:20250309T100000
END:DAYLIGHT
BEGIN:STANDARD
TZOFFSETFROM:-0700
TZOFFSETTO:-0800
TZNAME:PST
DTSTART:20251102T090000
END:STANDARD
BEGIN:DAYLIGHT
TZOFFSETFROM:-0800
TZOFFSETTO:-0700
TZNAME:PDT
DTSTART:20260308T100000
END:DAYLIGHT
BEGIN:STANDARD
TZOFFSETFROM:-0700
TZOFFSETTO:-0800
TZNAME:PST
DTSTART:20261101T090000
END:STANDARD
BEGIN:DAYLIGHT
TZOFFSETFROM:-0800
TZOFFSETTO:-0700
TZNAME:PDT
DTSTART:20270314T100000
END:DAYLIGHT
BEGIN:STANDARD
TZOFFSETFROM:-0700
TZOFFSETTO:-0800
TZNAME:PST
DTSTART:20271107T090000
END:STANDARD
END:VTIMEZONE
BEGIN:VEVENT
DTSTART;TZID=America/Vancouver:20260329T100000
DTEND;TZID=America/Vancouver:20260329T160000
DTSTAMP:20260423T173200
CREATED:20260129T194244Z
LAST-MODIFIED:20260129T201143Z
UID:18106-1774778400-1774800000@westcoastweddings.com
SUMMARY:West Coast Weddings 'In Bloom'
DESCRIPTION:Hey there lovebirds! Get ready for the 3rd West Coast Wedding Show ‘In Bloom’ at the Hilton Vancouver Metrotown on March 29\, 2026\, from 10 a.m. to 4 p.m. \nThis is your chance to explore everything you need for your dream day\, all under one roof. From gorgeous fashion moments and creative décor ideas to talented vendors who can bring your vision to life\, this show is designed to make wedding planning easier\, more fun\, and filled with inspiration. \nMeet amazing wedding pros\, discover fresh ideas\, enjoy live music\, and take in beautiful floral displays that will spark your imagination. Whether you are planning something small and sweet or a full-scale celebration\, you will find plenty to love. \nMark your calendars\, grab your tickets\, and join us for a day packed with inspiration\, great energy\, and everything you need to start planning with confidence. See you there!
URL:https://westcoastweddings.com/event/west-coast-weddings-in-bloom/
LOCATION:Hilton Vancouver Metrotown\, 6083 McKay Ave\, Vancouver\, British Columbia\, V5H 2W7\, Canada
CATEGORIES:Vancouver Events,Wedding Shows
ATTACH;FMTTYPE=image/png:https://westcoastweddings.com/wp-content/uploads/2026/01/EVENTBRITE-HEADER.png
ORGANIZER;CN="West Coast Weddings":MAILTO:info@westcoastweddings.com
END:VEVENT
END:VCALENDAR