BEGIN:VCALENDAR
VERSION:2.0
PRODID:-//West Coast Weddings - ECPv6.15.19//NONSGML v1.0//EN
CALSCALE:GREGORIAN
METHOD:PUBLISH
X-WR-CALNAME:West Coast Weddings
X-ORIGINAL-URL:https://westcoastweddings.com
X-WR-CALDESC:Events for West Coast Weddings
REFRESH-INTERVAL;VALUE=DURATION:PT1H
X-Robots-Tag:noindex
X-PUBLISHED-TTL:PT1H
BEGIN:VTIMEZONE
TZID:America/Vancouver
BEGIN:DAYLIGHT
TZOFFSETFROM:-0800
TZOFFSETTO:-0700
TZNAME:PDT
DTSTART:20250309T100000
END:DAYLIGHT
BEGIN:STANDARD
TZOFFSETFROM:-0700
TZOFFSETTO:-0800
TZNAME:PST
DTSTART:20251102T090000
END:STANDARD
BEGIN:DAYLIGHT
TZOFFSETFROM:-0800
TZOFFSETTO:-0700
TZNAME:PDT
DTSTART:20260308T100000
END:DAYLIGHT
BEGIN:STANDARD
TZOFFSETFROM:-0700
TZOFFSETTO:-0800
TZNAME:PST
DTSTART:20261101T090000
END:STANDARD
BEGIN:DAYLIGHT
TZOFFSETFROM:-0800
TZOFFSETTO:-0700
TZNAME:PDT
DTSTART:20270314T100000
END:DAYLIGHT
BEGIN:STANDARD
TZOFFSETFROM:-0700
TZOFFSETTO:-0800
TZNAME:PST
DTSTART:20271107T090000
END:STANDARD
END:VTIMEZONE
BEGIN:VEVENT
DTSTART;TZID=America/Vancouver:20260111T120000
DTEND;TZID=America/Vancouver:20260111T163000
DTSTAMP:20260422T082749
CREATED:20260105T181255Z
LAST-MODIFIED:20260105T181255Z
UID:17989-1768132800-1768149000@westcoastweddings.com
SUMMARY:All Dressed in White Bridal Show
DESCRIPTION:The All Dressed in White Bridal Show is where wedding planning turns into a genuinely fun day out. Designed for newly engaged couples and wedding dreamers alike\, this high-energy bridal show brings together a curated lineup of wedding vendors\, fresh ideas\, and must-see trends all under one roof. Attendees can explore everything from décor and fashion to photography and planning support\, while enjoying exclusive show-only discounts and exciting prize draws. With lively contests\, interactive experiences\, and a limited number of VIP Swag Bags filled with goodies\, this event offers inspiration\, connection\, and a few surprises along the way. \nFor more details on prizes\, visit website www.adiw.ca \nFashion Show by Everything But the Groom Bridal Boutique at 2:00 pm \nSAVE $10 on tickets.  Use promo code ADIWJAN2026 \nNOTE: Only one engaged couple per registration. If you are a guest registering on behalf of an engaged couple\, please ensure you have their contact information. \nVIP Engaged Couple or Engaged Couple Tickets are for the couple getting married.   \nPrizes and Contest to be drawn at 4:00 pm.  Must be present to win!
URL:https://westcoastweddings.com/event/all-dressed-in-white-bridal-show-4/
LOCATION:Delta Hotels Burnaby Conference Centre\, 4331 Dominion Street\, Vancouver\, British Columbia\, V5G 1C7\, Canada
CATEGORIES:Wedding Shows
ATTACH;FMTTYPE=image/jpeg:https://westcoastweddings.com/wp-content/uploads/2026/01/1c910301-814.jpg
END:VEVENT
END:VCALENDAR