BEGIN:VCALENDAR
VERSION:2.0
PRODID:-//West Coast Weddings - ECPv6.15.19//NONSGML v1.0//EN
CALSCALE:GREGORIAN
METHOD:PUBLISH
X-WR-CALNAME:West Coast Weddings
X-ORIGINAL-URL:https://westcoastweddings.com
X-WR-CALDESC:Events for West Coast Weddings
REFRESH-INTERVAL;VALUE=DURATION:PT1H
X-Robots-Tag:noindex
X-PUBLISHED-TTL:PT1H
BEGIN:VTIMEZONE
TZID:America/Vancouver
BEGIN:DAYLIGHT
TZOFFSETFROM:-0800
TZOFFSETTO:-0700
TZNAME:PDT
DTSTART:20240310T100000
END:DAYLIGHT
BEGIN:STANDARD
TZOFFSETFROM:-0700
TZOFFSETTO:-0800
TZNAME:PST
DTSTART:20241103T090000
END:STANDARD
BEGIN:DAYLIGHT
TZOFFSETFROM:-0800
TZOFFSETTO:-0700
TZNAME:PDT
DTSTART:20250309T100000
END:DAYLIGHT
BEGIN:STANDARD
TZOFFSETFROM:-0700
TZOFFSETTO:-0800
TZNAME:PST
DTSTART:20251102T090000
END:STANDARD
BEGIN:DAYLIGHT
TZOFFSETFROM:-0800
TZOFFSETTO:-0700
TZNAME:PDT
DTSTART:20260308T100000
END:DAYLIGHT
BEGIN:STANDARD
TZOFFSETFROM:-0700
TZOFFSETTO:-0800
TZNAME:PST
DTSTART:20261101T090000
END:STANDARD
END:VTIMEZONE
BEGIN:VEVENT
DTSTART;TZID=America/Vancouver:20251108T163000
DTEND;TZID=America/Vancouver:20251108T200000
DTSTAMP:20260422T172820
CREATED:20250912T204410Z
LAST-MODIFIED:20250912T210541Z
UID:17445-1762619400-1762632000@westcoastweddings.com
SUMMARY:Luxe Wedding Soirée at the Fairmont Pacific Rim
DESCRIPTION:The 6th Annual Luxe Wedding Soirée\, will be taking place on Saturday\, November 8\, 2025 at the renowned Fairmont Pacific Rim in Vancouver. \nThis year’s Luxe event will be themed as the Art of “I Do” promising a captivating and unforgettable experience for all attendees including passed canapés\, award-winning cocktails\, themed live-action cooking stations featuring a selection of signature dishes from the Weddings at Fairmont Pacific Rim culinary team\, an exquisite fashion show\, and more. \nThe Soirée is Vancouver’s most exclusive wedding showcase\, bringing together top-tier wedding professionals\, couture fashion\, opulent décor\, and a one-of-a-kind culinary and entertainment experience. Couples will have the opportunity to connect directly with the city’s most sought-after vendors while enjoying a glamorous evening in one of Vancouver’s most iconic venues. \n  \n 
URL:https://westcoastweddings.com/event/luxe-wedding-soiree-at-the-fairmont-pacific-rim/
LOCATION:Fairmont Pacific Rim\, 1011 West Cordova Street\, Vancouver\, BC\, V6C 2G6\, Canada
CATEGORIES:Wedding Shows
ATTACH;FMTTYPE=image/jpeg:https://westcoastweddings.com/wp-content/uploads/2025/09/fleurdelisevents-17576959100270.jpg
END:VEVENT
END:VCALENDAR