BEGIN:VCALENDAR
VERSION:2.0
PRODID:-//West Coast Weddings - ECPv6.15.19//NONSGML v1.0//EN
CALSCALE:GREGORIAN
METHOD:PUBLISH
X-ORIGINAL-URL:https://westcoastweddings.com
X-WR-CALDESC:Events for West Coast Weddings
REFRESH-INTERVAL;VALUE=DURATION:PT1H
X-Robots-Tag:noindex
X-PUBLISHED-TTL:PT1H
BEGIN:VTIMEZONE
TZID:America/Vancouver
BEGIN:DAYLIGHT
TZOFFSETFROM:-0800
TZOFFSETTO:-0700
TZNAME:PDT
DTSTART:20250309T100000
END:DAYLIGHT
BEGIN:STANDARD
TZOFFSETFROM:-0700
TZOFFSETTO:-0800
TZNAME:PST
DTSTART:20251102T090000
END:STANDARD
BEGIN:DAYLIGHT
TZOFFSETFROM:-0800
TZOFFSETTO:-0700
TZNAME:PDT
DTSTART:20260308T100000
END:DAYLIGHT
BEGIN:STANDARD
TZOFFSETFROM:-0700
TZOFFSETTO:-0800
TZNAME:PST
DTSTART:20261101T090000
END:STANDARD
BEGIN:DAYLIGHT
TZOFFSETFROM:-0800
TZOFFSETTO:-0700
TZNAME:PDT
DTSTART:20270314T100000
END:DAYLIGHT
BEGIN:STANDARD
TZOFFSETFROM:-0700
TZOFFSETTO:-0800
TZNAME:PST
DTSTART:20271107T090000
END:STANDARD
END:VTIMEZONE
BEGIN:VEVENT
DTSTART;TZID=America/Vancouver:20260502T090000
DTEND;TZID=America/Vancouver:20260502T160000
DTSTAMP:20260420T192903
CREATED:20260105T183523Z
LAST-MODIFIED:20260105T183523Z
UID:17995-1777712400-1777737600@westcoastweddings.com
SUMMARY:Pop-Up Wedding Dress Sale
DESCRIPTION:Get ready to say yes to the dress at our Opportunity Bridal Wedding Dress Sale in Richmond – find your dream gown at amazing prices!\n\n\n\n1 Day only pop up Bridal Sale selling only New Wedding Dresses and accessories (veils\, belts\, tiaras\, etc) for the bride. Up to 80% off the MSRP. Over 600+ Designer Wedding Gowns from size 2-28. All priced between $399 – $1299. \nSale runs from 9:00am – 4:00pm with last admittance at 3:00pm \nOpportunity Bridal is 100% Canadian owned and operated\, proudly serving Canadians from coast to coast. \nAll sales are final\, no returns or exchanges. \nTICKET OPTIONS: \nGeneral Admission – FREE \n– Sale access between 9:00am – 4:00pm \n– No appointments\, admission will be first come\, first serve \nEarly Access VIP Ticket – $50 \n– Only purchase this ticket if you can arrive between 8:00am and 8:30am \n– Guaranteed admission – Don’t have to stand in line \n– Guaranteed a change room \n– You will get to see and try the dresses on before we open the doors at 9:00am to the general public. \n– 1 Ticket is good for the whole party up to a group of 5 people \n– $50 ticket value can be used as a credit towards the price of your wedding dress \n– Early Access VIP ticket value is refundable up to 7 days before the event \nVIP tickets must be used to gain early access between 8:00am and 8:30am on the date for which the ticket is purchased. After 8:30am\, Early Access VIP Ticket holders will be treated as general admission guest and be admitted on a first come\, first serve basis. The $50 ticket value can still be applied towards a purchase of a dress.
URL:https://westcoastweddings.com/event/pop-up-wedding-dress-sale/
LOCATION:Executive Hotel Vancouver Airport\, 7311 Westminster Highway\, Richmond\, BC\, Canada
CATEGORIES:Wedding Shows
ATTACH;FMTTYPE=image/png:https://westcoastweddings.com/wp-content/uploads/2026/01/Screenshot-2026-01-05-103018.png
END:VEVENT
END:VCALENDAR