BEGIN:VCALENDAR
VERSION:2.0
PRODID:-//West Coast Weddings - ECPv6.15.19//NONSGML v1.0//EN
CALSCALE:GREGORIAN
METHOD:PUBLISH
X-ORIGINAL-URL:https://westcoastweddings.com
X-WR-CALDESC:Events for West Coast Weddings
REFRESH-INTERVAL;VALUE=DURATION:PT1H
X-Robots-Tag:noindex
X-PUBLISHED-TTL:PT1H
BEGIN:VTIMEZONE
TZID:America/Vancouver
BEGIN:DAYLIGHT
TZOFFSETFROM:-0800
TZOFFSETTO:-0700
TZNAME:PDT
DTSTART:20240310T100000
END:DAYLIGHT
BEGIN:STANDARD
TZOFFSETFROM:-0700
TZOFFSETTO:-0800
TZNAME:PST
DTSTART:20241103T090000
END:STANDARD
BEGIN:DAYLIGHT
TZOFFSETFROM:-0800
TZOFFSETTO:-0700
TZNAME:PDT
DTSTART:20250309T100000
END:DAYLIGHT
BEGIN:STANDARD
TZOFFSETFROM:-0700
TZOFFSETTO:-0800
TZNAME:PST
DTSTART:20251102T090000
END:STANDARD
BEGIN:DAYLIGHT
TZOFFSETFROM:-0800
TZOFFSETTO:-0700
TZNAME:PDT
DTSTART:20260308T100000
END:DAYLIGHT
BEGIN:STANDARD
TZOFFSETFROM:-0700
TZOFFSETTO:-0800
TZNAME:PST
DTSTART:20261101T090000
END:STANDARD
END:VTIMEZONE
BEGIN:VEVENT
DTSTART;TZID=America/Vancouver:20251004T123000
DTEND;TZID=America/Vancouver:20251004T163000
DTSTAMP:20260422T185822
CREATED:20250825T153130Z
LAST-MODIFIED:20251106T193821Z
UID:17392-1759581000-1759595400@westcoastweddings.com
SUMMARY:Ethereal Bridal Grand Opening
DESCRIPTION:Ethereal Bridal sets a new standard of sophistication as the Tri-Cities’ first and only luxury bridal boutique. With an exclusively curated collection of European gowns\, each design is selected for its artistry\, craftsmanship\, and distinctive elegance. Brides will discover gowns that embody both modern refinement and timeless romance. \nWhat truly defines Ethereal Bridal is its unparalleled experience: every bride has the boutique entirely to herself. In this intimate\, private setting\, the focus is solely on her journey\, creating a moment as extraordinary as the gown she chooses. The boutique also offers evening and special occasion wear\, including children’s attire.
URL:https://westcoastweddings.com/event/ethereal-bridal-grand-opening/
LOCATION:Ethereal Bridal\, 2521 Clarke Street\, Port Moody\, British Columbia\, V3H1Z1\, Canada
CATEGORIES:Vancouver Events,Wedding Shows
ATTACH;FMTTYPE=image/jpeg:https://westcoastweddings.com/wp-content/uploads/2025/08/ethereal-opening.jpeg
END:VEVENT
END:VCALENDAR