BEGIN:VCALENDAR
VERSION:2.0
PRODID:-//West Coast Weddings - ECPv6.15.19//NONSGML v1.0//EN
CALSCALE:GREGORIAN
METHOD:PUBLISH
X-WR-CALNAME:West Coast Weddings
X-ORIGINAL-URL:https://westcoastweddings.com
X-WR-CALDESC:Events for West Coast Weddings
REFRESH-INTERVAL;VALUE=DURATION:PT1H
X-Robots-Tag:noindex
X-PUBLISHED-TTL:PT1H
BEGIN:VTIMEZONE
TZID:America/Vancouver
BEGIN:DAYLIGHT
TZOFFSETFROM:-0800
TZOFFSETTO:-0700
TZNAME:PDT
DTSTART:20240310T100000
END:DAYLIGHT
BEGIN:STANDARD
TZOFFSETFROM:-0700
TZOFFSETTO:-0800
TZNAME:PST
DTSTART:20241103T090000
END:STANDARD
BEGIN:DAYLIGHT
TZOFFSETFROM:-0800
TZOFFSETTO:-0700
TZNAME:PDT
DTSTART:20250309T100000
END:DAYLIGHT
BEGIN:STANDARD
TZOFFSETFROM:-0700
TZOFFSETTO:-0800
TZNAME:PST
DTSTART:20251102T090000
END:STANDARD
BEGIN:DAYLIGHT
TZOFFSETFROM:-0800
TZOFFSETTO:-0700
TZNAME:PDT
DTSTART:20260308T100000
END:DAYLIGHT
BEGIN:STANDARD
TZOFFSETFROM:-0700
TZOFFSETTO:-0800
TZNAME:PST
DTSTART:20261101T090000
END:STANDARD
END:VTIMEZONE
BEGIN:VEVENT
DTSTART;TZID=America/Vancouver:20250531T100000
DTEND;TZID=America/Vancouver:20250601T170000
DTSTAMP:20260425T093308
CREATED:20250508T235435Z
LAST-MODIFIED:20250508T235435Z
UID:17244-1748685600-1748797200@westcoastweddings.com
SUMMARY:Blush Markets: Bridal + Baby
DESCRIPTION:Two Markets Under One Roof!  \nBlush Markets: Bridal + Baby\,  May 31st + June 1st\, 2025 at the Chilliwack Heritage Park for the first annual BLUSH weekend – with amazing swag bags and a shopping experience that’s both fun and super helpful no matter what stage of life you’re in. \nSaturday\, May 31st\, 2025: 10am-5pm\nSunday\, June 1st\, 2025: 10am-5pm \nGeneral Admission: $9 at the door and online (grand prize entry automatically included in every online ticket purchase) \n*One ticket includes entry into BOTH markets! (Children 10 and under are complimentary) \n* No refunds and no exchanges.\n* Name on purchased ticket MUST match photo ID at admission table \nGET TICKETS!\nWith every online ticket purchase\, you are automatically entered to win one of our sweepstake grand prizes! Details on prizes to be announced soon! \nContact for more info: hello@blushmarkets.com
URL:https://westcoastweddings.com/event/blush-markets-bridal-baby/
LOCATION:Chilliwack Heritage Park\, 44140 Luckakuck Way\, Chilliwack\, British Columbia\, V2R 4A7\, Canada
CATEGORIES:Wedding Shows
ATTACH;FMTTYPE=image/jpeg:https://westcoastweddings.com/wp-content/uploads/2025/05/blush-markets.jpg
END:VEVENT
END:VCALENDAR