BEGIN:VCALENDAR
VERSION:2.0
PRODID:-//West Coast Weddings - ECPv6.15.19//NONSGML v1.0//EN
CALSCALE:GREGORIAN
METHOD:PUBLISH
X-ORIGINAL-URL:https://westcoastweddings.com
X-WR-CALDESC:Events for West Coast Weddings
REFRESH-INTERVAL;VALUE=DURATION:PT1H
X-Robots-Tag:noindex
X-PUBLISHED-TTL:PT1H
BEGIN:VTIMEZONE
TZID:America/Vancouver
BEGIN:DAYLIGHT
TZOFFSETFROM:-0800
TZOFFSETTO:-0700
TZNAME:PDT
DTSTART:20180311T100000
END:DAYLIGHT
BEGIN:STANDARD
TZOFFSETFROM:-0700
TZOFFSETTO:-0800
TZNAME:PST
DTSTART:20181104T090000
END:STANDARD
BEGIN:DAYLIGHT
TZOFFSETFROM:-0800
TZOFFSETTO:-0700
TZNAME:PDT
DTSTART:20190310T100000
END:DAYLIGHT
BEGIN:STANDARD
TZOFFSETFROM:-0700
TZOFFSETTO:-0800
TZNAME:PST
DTSTART:20191103T090000
END:STANDARD
BEGIN:DAYLIGHT
TZOFFSETFROM:-0800
TZOFFSETTO:-0700
TZNAME:PDT
DTSTART:20200308T100000
END:DAYLIGHT
BEGIN:STANDARD
TZOFFSETFROM:-0700
TZOFFSETTO:-0800
TZNAME:PST
DTSTART:20201101T090000
END:STANDARD
END:VTIMEZONE
BEGIN:VEVENT
DTSTART;TZID=America/Vancouver:20191019T140000
DTEND;TZID=America/Vancouver:20191019T180000
DTSTAMP:20260425T061310
CREATED:20191003T155906Z
LAST-MODIFIED:20191003T155906Z
UID:7491-1571493600-1571508000@westcoastweddings.com
SUMMARY:Harvest Wedding Show at the Falls Golf Club
DESCRIPTION:Harvest Wedding Show\nJoin us for an afternoon of free wine tastings & housemade appetizers at Harvest Wedding Show at The Falls Golf Club! Meet & mingle with some of the finest wedding vendors in The Fraser Valley\, try on a gown from Kathryn Bass Bridal‘s Sample Sale\, nibble on a cookie from Cookies by Andria\, sip some champagne and take in the breathtaking views this venue has to offer! \nWhen: Sat. October 19th\, 2019\, 1-5pm \nWho: YOU\, your S.O\, and all your friends & family!\nAdmission: by DONATION at the door to the Starfish Pack Program \nWe’ll see you there! 
URL:https://westcoastweddings.com/event/harvest-wedding-show-at-the-falls-golf-club/
LOCATION:The Falls Golf Club\, 8341 Nixon Rd\, Chilliwack\, British Columbia\, V4Z 1L3\, Canada
ATTACH;FMTTYPE=image/jpeg:https://westcoastweddings.com/wp-content/uploads/2019/10/harvest-wedding-show.jpg
END:VEVENT
END:VCALENDAR